BEGIN:VCALENDAR
VERSION:2.0
PRODID:-//Welcome to the Town of Eaton, New Hampshire - ECPv6.15.20//NONSGML v1.0//EN
CALSCALE:GREGORIAN
METHOD:PUBLISH
X-WR-CALNAME:Welcome to the Town of Eaton, New Hampshire
X-ORIGINAL-URL:https://www.eatonnh.gov
X-WR-CALDESC:Events for Welcome to the Town of Eaton, New Hampshire
REFRESH-INTERVAL;VALUE=DURATION:PT1H
X-Robots-Tag:noindex
X-PUBLISHED-TTL:PT1H
BEGIN:VTIMEZONE
TZID:America/New_York
BEGIN:DAYLIGHT
TZOFFSETFROM:-0500
TZOFFSETTO:-0400
TZNAME:EDT
DTSTART:20230312T070000
END:DAYLIGHT
BEGIN:STANDARD
TZOFFSETFROM:-0400
TZOFFSETTO:-0500
TZNAME:EST
DTSTART:20231105T060000
END:STANDARD
BEGIN:DAYLIGHT
TZOFFSETFROM:-0500
TZOFFSETTO:-0400
TZNAME:EDT
DTSTART:20240310T070000
END:DAYLIGHT
BEGIN:STANDARD
TZOFFSETFROM:-0400
TZOFFSETTO:-0500
TZNAME:EST
DTSTART:20241103T060000
END:STANDARD
BEGIN:DAYLIGHT
TZOFFSETFROM:-0500
TZOFFSETTO:-0400
TZNAME:EDT
DTSTART:20250309T070000
END:DAYLIGHT
BEGIN:STANDARD
TZOFFSETFROM:-0400
TZOFFSETTO:-0500
TZNAME:EST
DTSTART:20251102T060000
END:STANDARD
END:VTIMEZONE
BEGIN:VEVENT
DTSTART;TZID=America/New_York:20240619T180000
DTEND;TZID=America/New_York:20240619T193000
DTSTAMP:20260420T080759
CREATED:20240515T141021Z
LAST-MODIFIED:20240515T141021Z
UID:10000496-1718820000-1718825400@www.eatonnh.gov
SUMMARY:Planning Board
DESCRIPTION:
URL:https://www.eatonnh.gov/calendar/planning-board/
LOCATION:Evans Memorial Building\, 83 Brownfield Road\, Eaton\, NH\, 03832\, United States
CATEGORIES:Planning Board
ATTACH;FMTTYPE=image/jpeg:https://www.eatonnh.gov/wp-content/uploads/2018/10/zoning-board.jpg
END:VEVENT
BEGIN:VEVENT
DTSTART;TZID=America/New_York:20240619T183000
DTEND;TZID=America/New_York:20240619T200000
DTSTAMP:20260420T080759
CREATED:20230210T163135Z
LAST-MODIFIED:20230210T163135Z
UID:10000057-1718821800-1718827200@www.eatonnh.gov
SUMMARY:Planning Board
DESCRIPTION:
URL:https://www.eatonnh.gov/calendar/planning-board-3/2024-06-19/
LOCATION:83 Brownfield Road\, Eaton\, NH\, 03832\, United States
CATEGORIES:Planning Board
END:VEVENT
END:VCALENDAR