BEGIN:VCALENDAR
VERSION:2.0
PRODID:-//Welcome to the Town of Eaton, New Hampshire - ECPv6.15.20//NONSGML v1.0//EN
CALSCALE:GREGORIAN
METHOD:PUBLISH
X-WR-CALNAME:Welcome to the Town of Eaton, New Hampshire
X-ORIGINAL-URL:https://www.eatonnh.gov
X-WR-CALDESC:Events for Welcome to the Town of Eaton, New Hampshire
REFRESH-INTERVAL;VALUE=DURATION:PT1H
X-Robots-Tag:noindex
X-PUBLISHED-TTL:PT1H
BEGIN:VTIMEZONE
TZID:America/New_York
BEGIN:DAYLIGHT
TZOFFSETFROM:-0500
TZOFFSETTO:-0400
TZNAME:EDT
DTSTART:20250309T070000
END:DAYLIGHT
BEGIN:STANDARD
TZOFFSETFROM:-0400
TZOFFSETTO:-0500
TZNAME:EST
DTSTART:20251102T060000
END:STANDARD
BEGIN:DAYLIGHT
TZOFFSETFROM:-0500
TZOFFSETTO:-0400
TZNAME:EDT
DTSTART:20260308T070000
END:DAYLIGHT
BEGIN:STANDARD
TZOFFSETFROM:-0400
TZOFFSETTO:-0500
TZNAME:EST
DTSTART:20261101T060000
END:STANDARD
BEGIN:DAYLIGHT
TZOFFSETFROM:-0500
TZOFFSETTO:-0400
TZNAME:EDT
DTSTART:20270314T070000
END:DAYLIGHT
BEGIN:STANDARD
TZOFFSETFROM:-0400
TZOFFSETTO:-0500
TZNAME:EST
DTSTART:20271107T060000
END:STANDARD
END:VTIMEZONE
BEGIN:VTIMEZONE
TZID:UTC
BEGIN:STANDARD
TZOFFSETFROM:+0000
TZOFFSETTO:+0000
TZNAME:UTC
DTSTART:20250101T000000
END:STANDARD
END:VTIMEZONE
BEGIN:VEVENT
DTSTART;TZID=America/New_York:20260331T130000
DTEND;TZID=America/New_York:20260331T150000
DTSTAMP:20260419T234450
CREATED:20260319T134058Z
LAST-MODIFIED:20260319T134058Z
UID:10004328-1774962000-1774969200@www.eatonnh.gov
SUMMARY:Board of Selectmen
DESCRIPTION:
URL:https://www.eatonnh.gov/calendar/board-of-selectmen-10/
CATEGORIES:Selectmen
END:VEVENT
BEGIN:VEVENT
DTSTART;TZID=America/New_York:20260407T150000
DTEND;TZID=America/New_York:20260407T170000
DTSTAMP:20260419T234450
CREATED:20260303T182038Z
LAST-MODIFIED:20260303T182038Z
UID:10004287-1775574000-1775581200@www.eatonnh.gov
SUMMARY:Board of Selectmen
DESCRIPTION:
URL:https://www.eatonnh.gov/calendar/board-of-selectmen-5-2/2026-04-07/
CATEGORIES:Selectmen
END:VEVENT
BEGIN:VEVENT
DTSTART;TZID=UTC:20260413T180000
DTEND;TZID=UTC:20260413T190000
DTSTAMP:20260419T234450
CREATED:20181020T180147Z
LAST-MODIFIED:20220412T120205Z
UID:10000488-1776103200-1776106800@www.eatonnh.gov
SUMMARY:Conservation Commission Meeting
DESCRIPTION:
URL:https://www.eatonnh.gov/calendar/conservation-commission-meeting/2026-04-13/
LOCATION:Evans Memorial Building\, 83 Brownfield Road\, Eaton\, NH\, 03832\, United States
CATEGORIES:Conservation Commission
ATTACH;FMTTYPE=image/jpeg:https://www.eatonnh.gov/wp-content/uploads/2018/10/conservation.jpg
END:VEVENT
BEGIN:VEVENT
DTSTART;TZID=America/New_York:20260415T180000
DTEND;TZID=America/New_York:20260415T193000
DTSTAMP:20260419T234450
CREATED:20250623T145031Z
LAST-MODIFIED:20250623T145031Z
UID:10004092-1776276000-1776281400@www.eatonnh.gov
SUMMARY:Planning Board
DESCRIPTION:
URL:https://www.eatonnh.gov/calendar/planning-board-16/2026-04-15/
CATEGORIES:Planning Board
ATTACH;FMTTYPE=image/jpeg:https://www.eatonnh.gov/wp-content/uploads/2018/10/zoning-board.jpg
END:VEVENT
BEGIN:VEVENT
DTSTART;TZID=America/New_York:20260421T150000
DTEND;TZID=America/New_York:20260421T170000
DTSTAMP:20260419T234450
CREATED:20260303T182002Z
LAST-MODIFIED:20260303T182002Z
UID:10004299-1776783600-1776790800@www.eatonnh.gov
SUMMARY:Board of Selectmen
DESCRIPTION:
URL:https://www.eatonnh.gov/calendar/board-of-selectmen-6-2/2026-04-21/
CATEGORIES:Selectmen
END:VEVENT
BEGIN:VEVENT
DTSTART;TZID=America/New_York:20260505T150000
DTEND;TZID=America/New_York:20260505T170000
DTSTAMP:20260419T234450
CREATED:20260303T182038Z
LAST-MODIFIED:20260303T182038Z
UID:10004288-1777993200-1778000400@www.eatonnh.gov
SUMMARY:Board of Selectmen
DESCRIPTION:
URL:https://www.eatonnh.gov/calendar/board-of-selectmen-5-2/2026-05-05/
CATEGORIES:Selectmen
END:VEVENT
BEGIN:VEVENT
DTSTART;TZID=UTC:20260511T180000
DTEND;TZID=UTC:20260511T190000
DTSTAMP:20260419T234450
CREATED:20181020T180147Z
LAST-MODIFIED:20220412T120205Z
UID:10000489-1778522400-1778526000@www.eatonnh.gov
SUMMARY:Conservation Commission Meeting
DESCRIPTION:
URL:https://www.eatonnh.gov/calendar/conservation-commission-meeting/2026-05-11/
LOCATION:Evans Memorial Building\, 83 Brownfield Road\, Eaton\, NH\, 03832\, United States
CATEGORIES:Conservation Commission
ATTACH;FMTTYPE=image/jpeg:https://www.eatonnh.gov/wp-content/uploads/2018/10/conservation.jpg
END:VEVENT
BEGIN:VEVENT
DTSTART;TZID=America/New_York:20260519T150000
DTEND;TZID=America/New_York:20260519T170000
DTSTAMP:20260419T234450
CREATED:20260303T182002Z
LAST-MODIFIED:20260303T182002Z
UID:10004300-1779202800-1779210000@www.eatonnh.gov
SUMMARY:Board of Selectmen
DESCRIPTION:
URL:https://www.eatonnh.gov/calendar/board-of-selectmen-6-2/2026-05-19/
CATEGORIES:Selectmen
END:VEVENT
BEGIN:VEVENT
DTSTART;TZID=America/New_York:20260520T180000
DTEND;TZID=America/New_York:20260520T193000
DTSTAMP:20260419T234450
CREATED:20250623T145031Z
LAST-MODIFIED:20250623T145031Z
UID:10004093-1779300000-1779305400@www.eatonnh.gov
SUMMARY:Planning Board
DESCRIPTION:
URL:https://www.eatonnh.gov/calendar/planning-board-16/2026-05-20/
CATEGORIES:Planning Board
ATTACH;FMTTYPE=image/jpeg:https://www.eatonnh.gov/wp-content/uploads/2018/10/zoning-board.jpg
END:VEVENT
BEGIN:VEVENT
DTSTART;VALUE=DATE:20260525
DTEND;VALUE=DATE:20260526
DTSTAMP:20260419T234450
CREATED:20260205T165322Z
LAST-MODIFIED:20260205T165325Z
UID:10004322-1779667200-1779753599@www.eatonnh.gov
SUMMARY:All Town Offices/Departments Closed
DESCRIPTION:
URL:https://www.eatonnh.gov/calendar/all-town-offices-departments-closed-4/
CATEGORIES:Town Hall Hours
END:VEVENT
END:VCALENDAR