BEGIN:VCALENDAR
VERSION:2.0
PRODID:-//Welcome to the Town of Eaton, New Hampshire - ECPv6.15.20//NONSGML v1.0//EN
CALSCALE:GREGORIAN
METHOD:PUBLISH
X-WR-CALNAME:Welcome to the Town of Eaton, New Hampshire
X-ORIGINAL-URL:https://www.eatonnh.gov
X-WR-CALDESC:Events for Welcome to the Town of Eaton, New Hampshire
REFRESH-INTERVAL;VALUE=DURATION:PT1H
X-Robots-Tag:noindex
X-PUBLISHED-TTL:PT1H
BEGIN:VTIMEZONE
TZID:UTC
BEGIN:STANDARD
TZOFFSETFROM:+0000
TZOFFSETTO:+0000
TZNAME:UTC
DTSTART:20230101T000000
END:STANDARD
END:VTIMEZONE
BEGIN:VTIMEZONE
TZID:America/New_York
BEGIN:DAYLIGHT
TZOFFSETFROM:-0500
TZOFFSETTO:-0400
TZNAME:EDT
DTSTART:20230312T070000
END:DAYLIGHT
BEGIN:STANDARD
TZOFFSETFROM:-0400
TZOFFSETTO:-0500
TZNAME:EST
DTSTART:20231105T060000
END:STANDARD
BEGIN:DAYLIGHT
TZOFFSETFROM:-0500
TZOFFSETTO:-0400
TZNAME:EDT
DTSTART:20240310T070000
END:DAYLIGHT
BEGIN:STANDARD
TZOFFSETFROM:-0400
TZOFFSETTO:-0500
TZNAME:EST
DTSTART:20241103T060000
END:STANDARD
BEGIN:DAYLIGHT
TZOFFSETFROM:-0500
TZOFFSETTO:-0400
TZNAME:EDT
DTSTART:20250309T070000
END:DAYLIGHT
BEGIN:STANDARD
TZOFFSETFROM:-0400
TZOFFSETTO:-0500
TZNAME:EST
DTSTART:20251102T060000
END:STANDARD
END:VTIMEZONE
BEGIN:VEVENT
DTSTART;TZID=UTC:20241014T180000
DTEND;TZID=UTC:20241014T190000
DTSTAMP:20260420T201828
CREATED:20181020T180147Z
LAST-MODIFIED:20220412T120205Z
UID:10000471-1728928800-1728932400@www.eatonnh.gov
SUMMARY:Conservation Commission Meeting
DESCRIPTION:
URL:https://www.eatonnh.gov/calendar/conservation-commission-meeting/2024-10-14/
LOCATION:Evans Memorial Building\, 83 Brownfield Road\, Eaton\, NH\, 03832\, United States
CATEGORIES:Conservation Commission
ATTACH;FMTTYPE=image/jpeg:https://www.eatonnh.gov/wp-content/uploads/2018/10/conservation.jpg
END:VEVENT
BEGIN:VEVENT
DTSTART;TZID=America/New_York:20241014T180000
DTEND;TZID=America/New_York:20241014T193000
DTSTAMP:20260420T201828
CREATED:20240515T140531Z
LAST-MODIFIED:20240814T170615Z
UID:10000495-1728928800-1728934200@www.eatonnh.gov
SUMMARY:Conservation Commission
DESCRIPTION:
URL:https://www.eatonnh.gov/calendar/conservation-commission-4/
LOCATION:Evans Memorial Building\, 83 Brownfield Road\, Eaton\, NH\, 03832\, United States
CATEGORIES:Conservation Commission
ATTACH;FMTTYPE=image/jpeg:https://www.eatonnh.gov/wp-content/uploads/2018/10/conservation.jpg
END:VEVENT
BEGIN:VEVENT
DTSTART;TZID=America/New_York:20241016T180000
DTEND;TZID=America/New_York:20241016T190000
DTSTAMP:20260420T201828
CREATED:20240805T171922Z
LAST-MODIFIED:20240805T171922Z
UID:10000504-1729101600-1729105200@www.eatonnh.gov
SUMMARY:Planning Board
DESCRIPTION:
URL:https://www.eatonnh.gov/calendar/planning-board-6/
CATEGORIES:Planning Board
ATTACH;FMTTYPE=image/jpeg:https://www.eatonnh.gov/wp-content/uploads/2018/10/zoning-board.jpg
END:VEVENT
BEGIN:VEVENT
DTSTART;TZID=America/New_York:20241016T183000
DTEND;TZID=America/New_York:20241016T200000
DTSTAMP:20260420T201828
CREATED:20230210T163135Z
LAST-MODIFIED:20230210T163135Z
UID:10000061-1729103400-1729108800@www.eatonnh.gov
SUMMARY:Planning Board
DESCRIPTION:
URL:https://www.eatonnh.gov/calendar/planning-board-3/2024-10-16/
LOCATION:83 Brownfield Road\, Eaton\, NH\, 03832\, United States
CATEGORIES:Planning Board
END:VEVENT
BEGIN:VEVENT
DTSTART;TZID=America/New_York:20241105T110000
DTEND;TZID=America/New_York:20241105T190000
DTSTAMP:20260420T201828
CREATED:20241028T150656Z
LAST-MODIFIED:20241028T150656Z
UID:10000519-1730804400-1730833200@www.eatonnh.gov
SUMMARY:ELECTION DAY
DESCRIPTION:
URL:https://www.eatonnh.gov/calendar/election-day-2/
CATEGORIES:Election
ATTACH;FMTTYPE=image/jpeg:https://www.eatonnh.gov/wp-content/uploads/2018/10/electionday.jpg
END:VEVENT
BEGIN:VEVENT
DTSTART;TZID=America/New_York:20241111T180000
DTEND;TZID=America/New_York:20241111T190000
DTSTAMP:20260420T201828
CREATED:20240805T172821Z
LAST-MODIFIED:20240805T172821Z
UID:10000514-1731348000-1731351600@www.eatonnh.gov
SUMMARY:Conservation Commission
DESCRIPTION:
URL:https://www.eatonnh.gov/calendar/conservation-commission-5/
CATEGORIES:Conservation Commission
ATTACH;FMTTYPE=image/jpeg:https://www.eatonnh.gov/wp-content/uploads/2018/10/conservation.jpg
END:VEVENT
END:VCALENDAR