BEGIN:VCALENDAR
VERSION:2.0
PRODID:-//Welcome to the Town of Eaton, New Hampshire - ECPv6.15.20//NONSGML v1.0//EN
CALSCALE:GREGORIAN
METHOD:PUBLISH
X-WR-CALNAME:Welcome to the Town of Eaton, New Hampshire
X-ORIGINAL-URL:https://www.eatonnh.gov
X-WR-CALDESC:Events for Welcome to the Town of Eaton, New Hampshire
REFRESH-INTERVAL;VALUE=DURATION:PT1H
X-Robots-Tag:noindex
X-PUBLISHED-TTL:PT1H
BEGIN:VTIMEZONE
TZID:America/New_York
BEGIN:DAYLIGHT
TZOFFSETFROM:-0500
TZOFFSETTO:-0400
TZNAME:EDT
DTSTART:20240310T070000
END:DAYLIGHT
BEGIN:STANDARD
TZOFFSETFROM:-0400
TZOFFSETTO:-0500
TZNAME:EST
DTSTART:20241103T060000
END:STANDARD
BEGIN:DAYLIGHT
TZOFFSETFROM:-0500
TZOFFSETTO:-0400
TZNAME:EDT
DTSTART:20250309T070000
END:DAYLIGHT
BEGIN:STANDARD
TZOFFSETFROM:-0400
TZOFFSETTO:-0500
TZNAME:EST
DTSTART:20251102T060000
END:STANDARD
BEGIN:DAYLIGHT
TZOFFSETFROM:-0500
TZOFFSETTO:-0400
TZNAME:EDT
DTSTART:20260308T070000
END:DAYLIGHT
BEGIN:STANDARD
TZOFFSETFROM:-0400
TZOFFSETTO:-0500
TZNAME:EST
DTSTART:20261101T060000
END:STANDARD
END:VTIMEZONE
BEGIN:VTIMEZONE
TZID:UTC
BEGIN:STANDARD
TZOFFSETFROM:+0000
TZOFFSETTO:+0000
TZNAME:UTC
DTSTART:20240101T000000
END:STANDARD
END:VTIMEZONE
BEGIN:VEVENT
DTSTART;TZID=America/New_York:20250917T180000
DTEND;TZID=America/New_York:20250917T193000
DTSTAMP:20260420T160702
CREATED:20250623T145031Z
LAST-MODIFIED:20250623T145031Z
UID:10004085-1758132000-1758137400@www.eatonnh.gov
SUMMARY:Planning Board
DESCRIPTION:
URL:https://www.eatonnh.gov/calendar/planning-board-16/2025-09-17/
CATEGORIES:Planning Board
ATTACH;FMTTYPE=image/jpeg:https://www.eatonnh.gov/wp-content/uploads/2018/10/zoning-board.jpg
END:VEVENT
BEGIN:VEVENT
DTSTART;TZID=America/New_York:20250923T180000
DTEND;TZID=America/New_York:20250923T193000
DTSTAMP:20260420T160702
CREATED:20250724T132300Z
LAST-MODIFIED:20250724T132300Z
UID:10004144-1758650400-1758655800@www.eatonnh.gov
SUMMARY:Joint Board Meeting
DESCRIPTION:
URL:https://www.eatonnh.gov/calendar/joint-board-meeting-2/
END:VEVENT
BEGIN:VEVENT
DTSTART;TZID=America/New_York:20250925T160000
DTEND;TZID=America/New_York:20250925T173000
DTSTAMP:20260420T160702
CREATED:20250821T163026Z
LAST-MODIFIED:20250821T163026Z
UID:10004150-1758816000-1758821400@www.eatonnh.gov
SUMMARY:Eaton Age In Place
DESCRIPTION:
URL:https://www.eatonnh.gov/calendar/eaton-age-in-place-2/
CATEGORIES:Special Events
END:VEVENT
BEGIN:VEVENT
DTSTART;TZID=America/New_York:20251007T150000
DTEND;TZID=America/New_York:20251007T180000
DTSTAMP:20260420T160702
CREATED:20250925T143307Z
LAST-MODIFIED:20250925T143307Z
UID:10004159-1759849200-1759860000@www.eatonnh.gov
SUMMARY:Board of Selectmen
DESCRIPTION:
URL:https://www.eatonnh.gov/calendar/board-of-selectmen/
END:VEVENT
BEGIN:VEVENT
DTSTART;TZID=America/New_York:20251009T160000
DTEND;TZID=America/New_York:20251009T173000
DTSTAMP:20260420T160702
CREATED:20250821T163058Z
LAST-MODIFIED:20250821T163058Z
UID:10004151-1760025600-1760031000@www.eatonnh.gov
SUMMARY:Eaton Age In Place
DESCRIPTION:
URL:https://www.eatonnh.gov/calendar/eaton-age-in-place-3/
CATEGORIES:Special Events
END:VEVENT
BEGIN:VEVENT
DTSTART;VALUE=DATE:20251013
DTEND;VALUE=DATE:20251014
DTSTAMP:20260420T160702
CREATED:20250925T141414Z
LAST-MODIFIED:20250925T141414Z
UID:10004155-1760313600-1760399999@www.eatonnh.gov
SUMMARY:All Offices/Departments Closed
DESCRIPTION:
URL:https://www.eatonnh.gov/calendar/all-offices-departments-closed-2/
CATEGORIES:Town Hall Hours
END:VEVENT
BEGIN:VEVENT
DTSTART;TZID=UTC:20251013T180000
DTEND;TZID=UTC:20251013T190000
DTSTAMP:20260420T160702
CREATED:20181020T180147Z
LAST-MODIFIED:20220412T120205Z
UID:10000482-1760378400-1760382000@www.eatonnh.gov
SUMMARY:Conservation Commission Meeting
DESCRIPTION:
URL:https://www.eatonnh.gov/calendar/conservation-commission-meeting/2025-10-13/
LOCATION:Evans Memorial Building\, 83 Brownfield Road\, Eaton\, NH\, 03832\, United States
CATEGORIES:Conservation Commission
ATTACH;FMTTYPE=image/jpeg:https://www.eatonnh.gov/wp-content/uploads/2018/10/conservation.jpg
END:VEVENT
BEGIN:VEVENT
DTSTART;TZID=America/New_York:20251015T180000
DTEND;TZID=America/New_York:20251015T193000
DTSTAMP:20260420T160702
CREATED:20250623T145031Z
LAST-MODIFIED:20250623T145031Z
UID:10004086-1760551200-1760556600@www.eatonnh.gov
SUMMARY:Planning Board
DESCRIPTION:
URL:https://www.eatonnh.gov/calendar/planning-board-16/2025-10-15/
CATEGORIES:Planning Board
ATTACH;FMTTYPE=image/jpeg:https://www.eatonnh.gov/wp-content/uploads/2018/10/zoning-board.jpg
END:VEVENT
BEGIN:VEVENT
DTSTART;TZID=America/New_York:20251020T180000
DTEND;TZID=America/New_York:20251020T183000
DTSTAMP:20260420T160702
CREATED:20251006T162205Z
LAST-MODIFIED:20251006T162205Z
UID:10004164-1760983200-1760985000@www.eatonnh.gov
SUMMARY:Zoning Board of Adjustment
DESCRIPTION:
URL:https://www.eatonnh.gov/calendar/zoning-board-of-adjustment-12/
CATEGORIES:Zoning Board
END:VEVENT
BEGIN:VEVENT
DTSTART;TZID=America/New_York:20251021T150000
DTEND;TZID=America/New_York:20251021T180000
DTSTAMP:20260420T160702
CREATED:20250925T143339Z
LAST-MODIFIED:20250925T143339Z
UID:10004160-1761058800-1761069600@www.eatonnh.gov
SUMMARY:Board of Selectmen
DESCRIPTION:
URL:https://www.eatonnh.gov/calendar/board-of-selectmen-2/
END:VEVENT
BEGIN:VEVENT
DTSTART;TZID=America/New_York:20251023T183000
DTEND;TZID=America/New_York:20251023T193000
DTSTAMP:20260420T160702
CREATED:20250821T163132Z
LAST-MODIFIED:20250821T163132Z
UID:10004152-1761244200-1761247800@www.eatonnh.gov
SUMMARY:Eaton Age In Place
DESCRIPTION:
URL:https://www.eatonnh.gov/calendar/eaton-age-in-place-4/
CATEGORIES:Special Events
END:VEVENT
BEGIN:VEVENT
DTSTART;TZID=America/New_York:20251105T150000
DTEND;TZID=America/New_York:20251105T170000
DTSTAMP:20260420T160702
CREATED:20251016T152016Z
LAST-MODIFIED:20251016T152016Z
UID:10004166-1762354800-1762362000@www.eatonnh.gov
SUMMARY:Planning Board
DESCRIPTION:
URL:https://www.eatonnh.gov/calendar/planning-board-18/
CATEGORIES:Planning Board
END:VEVENT
END:VCALENDAR