BEGIN:VCALENDAR
VERSION:2.0
PRODID:-//Welcome to the Town of Eaton, New Hampshire - ECPv6.15.20//NONSGML v1.0//EN
CALSCALE:GREGORIAN
METHOD:PUBLISH
X-ORIGINAL-URL:https://www.eatonnh.gov
X-WR-CALDESC:Events for Welcome to the Town of Eaton, New Hampshire
REFRESH-INTERVAL;VALUE=DURATION:PT1H
X-Robots-Tag:noindex
X-PUBLISHED-TTL:PT1H
BEGIN:VTIMEZONE
TZID:UTC
BEGIN:STANDARD
TZOFFSETFROM:+0000
TZOFFSETTO:+0000
TZNAME:UTC
DTSTART:20230101T000000
END:STANDARD
END:VTIMEZONE
BEGIN:VTIMEZONE
TZID:America/New_York
BEGIN:DAYLIGHT
TZOFFSETFROM:-0500
TZOFFSETTO:-0400
TZNAME:EDT
DTSTART:20230312T070000
END:DAYLIGHT
BEGIN:STANDARD
TZOFFSETFROM:-0400
TZOFFSETTO:-0500
TZNAME:EST
DTSTART:20231105T060000
END:STANDARD
BEGIN:DAYLIGHT
TZOFFSETFROM:-0500
TZOFFSETTO:-0400
TZNAME:EDT
DTSTART:20240310T070000
END:DAYLIGHT
BEGIN:STANDARD
TZOFFSETFROM:-0400
TZOFFSETTO:-0500
TZNAME:EST
DTSTART:20241103T060000
END:STANDARD
BEGIN:DAYLIGHT
TZOFFSETFROM:-0500
TZOFFSETTO:-0400
TZNAME:EDT
DTSTART:20250309T070000
END:DAYLIGHT
BEGIN:STANDARD
TZOFFSETFROM:-0400
TZOFFSETTO:-0500
TZNAME:EST
DTSTART:20251102T060000
END:STANDARD
END:VTIMEZONE
BEGIN:VEVENT
DTSTART;TZID=UTC:20241209T180000
DTEND;TZID=UTC:20241209T190000
DTSTAMP:20260420T092644
CREATED:20181020T180147Z
LAST-MODIFIED:20220412T120205Z
UID:10000472-1733767200-1733770800@www.eatonnh.gov
SUMMARY:Conservation Commission Meeting
DESCRIPTION:
URL:https://www.eatonnh.gov/calendar/conservation-commission-meeting/2024-12-09/
LOCATION:Evans Memorial Building\, 83 Brownfield Road\, Eaton\, NH\, 03832\, United States
CATEGORIES:Conservation Commission
ATTACH;FMTTYPE=image/jpeg:https://www.eatonnh.gov/wp-content/uploads/2018/10/conservation.jpg
END:VEVENT
BEGIN:VEVENT
DTSTART;TZID=America/New_York:20241218T180000
DTEND;TZID=America/New_York:20241218T190000
DTSTAMP:20260420T092644
CREATED:20240805T172733Z
LAST-MODIFIED:20240805T172733Z
UID:10000513-1734544800-1734548400@www.eatonnh.gov
SUMMARY:Planning Board
DESCRIPTION:
URL:https://www.eatonnh.gov/calendar/planning-board-8/
CATEGORIES:Planning Board
ATTACH;FMTTYPE=image/jpeg:https://www.eatonnh.gov/wp-content/uploads/2018/10/zoning-board.jpg
END:VEVENT
BEGIN:VEVENT
DTSTART;TZID=America/New_York:20241219T180000
DTEND;TZID=America/New_York:20241219T183000
DTSTAMP:20260420T092644
CREATED:20241218T163018Z
LAST-MODIFIED:20241218T163018Z
UID:10000525-1734631200-1734633000@www.eatonnh.gov
SUMMARY:School Board Public Hearing
DESCRIPTION:
URL:https://www.eatonnh.gov/calendar/school-board-public-hearing/
CATEGORIES:School Board
END:VEVENT
BEGIN:VEVENT
DTSTART;VALUE=DATE:20241223
DTEND;VALUE=DATE:20241228
DTSTAMP:20260420T092644
CREATED:20241127T172701Z
LAST-MODIFIED:20241127T172701Z
UID:10000522-1734912000-1735343999@www.eatonnh.gov
SUMMARY:Town Hall CLOSED
DESCRIPTION:
URL:https://www.eatonnh.gov/calendar/town-hall-closed-14/
CATEGORIES:Town Hall Hours
END:VEVENT
BEGIN:VEVENT
DTSTART;TZID=America/New_York:20241230T080000
DTEND;TZID=America/New_York:20241230T150000
DTSTAMP:20260420T092644
CREATED:20241127T172812Z
LAST-MODIFIED:20241127T172812Z
UID:10000524-1735545600-1735570800@www.eatonnh.gov
SUMMARY:Clerk/Tax Collector's Office OPEN
DESCRIPTION:
URL:https://www.eatonnh.gov/calendar/clerk-tax-collectors-office-open/
CATEGORIES:Town Hall Hours
END:VEVENT
END:VCALENDAR