BEGIN:VCALENDAR
VERSION:2.0
PRODID:-//Welcome to the Town of Eaton, New Hampshire - ECPv6.15.20//NONSGML v1.0//EN
CALSCALE:GREGORIAN
METHOD:PUBLISH
X-WR-CALNAME:Welcome to the Town of Eaton, New Hampshire
X-ORIGINAL-URL:https://www.eatonnh.gov
X-WR-CALDESC:Events for Welcome to the Town of Eaton, New Hampshire
REFRESH-INTERVAL;VALUE=DURATION:PT1H
X-Robots-Tag:noindex
X-PUBLISHED-TTL:PT1H
BEGIN:VTIMEZONE
TZID:UTC
BEGIN:STANDARD
TZOFFSETFROM:+0000
TZOFFSETTO:+0000
TZNAME:UTC
DTSTART:20230101T000000
END:STANDARD
END:VTIMEZONE
BEGIN:VTIMEZONE
TZID:America/New_York
BEGIN:DAYLIGHT
TZOFFSETFROM:-0500
TZOFFSETTO:-0400
TZNAME:EDT
DTSTART:20230312T070000
END:DAYLIGHT
BEGIN:STANDARD
TZOFFSETFROM:-0400
TZOFFSETTO:-0500
TZNAME:EST
DTSTART:20231105T060000
END:STANDARD
BEGIN:DAYLIGHT
TZOFFSETFROM:-0500
TZOFFSETTO:-0400
TZNAME:EDT
DTSTART:20240310T070000
END:DAYLIGHT
BEGIN:STANDARD
TZOFFSETFROM:-0400
TZOFFSETTO:-0500
TZNAME:EST
DTSTART:20241103T060000
END:STANDARD
BEGIN:DAYLIGHT
TZOFFSETFROM:-0500
TZOFFSETTO:-0400
TZNAME:EDT
DTSTART:20250309T070000
END:DAYLIGHT
BEGIN:STANDARD
TZOFFSETFROM:-0400
TZOFFSETTO:-0500
TZNAME:EST
DTSTART:20251102T060000
END:STANDARD
END:VTIMEZONE
BEGIN:VEVENT
DTSTART;TZID=UTC:20240610T180000
DTEND;TZID=UTC:20240610T190000
DTSTAMP:20260420T092429
CREATED:20181020T180147Z
LAST-MODIFIED:20220412T120205Z
UID:10000467-1718042400-1718046000@www.eatonnh.gov
SUMMARY:Conservation Commission Meeting
DESCRIPTION:
URL:https://www.eatonnh.gov/calendar/conservation-commission-meeting/2024-06-10/
LOCATION:Evans Memorial Building\, 83 Brownfield Road\, Eaton\, NH\, 03832\, United States
CATEGORIES:Conservation Commission
ATTACH;FMTTYPE=image/jpeg:https://www.eatonnh.gov/wp-content/uploads/2018/10/conservation.jpg
END:VEVENT
BEGIN:VEVENT
DTSTART;VALUE=DATE:20240613
DTEND;VALUE=DATE:20240614
DTSTAMP:20260420T092429
CREATED:20240610T163923Z
LAST-MODIFIED:20240610T163923Z
UID:10000015-1718236800-1718323199@www.eatonnh.gov
SUMMARY:Town Hall Closed
DESCRIPTION:
URL:https://www.eatonnh.gov/calendar/town-hall-closed-12/
CATEGORIES:Town Hall Hours
END:VEVENT
END:VCALENDAR